Workbook

Sheet Matkalasku
A1: Matkalasku 2026
A2: Ilmainen matkalaskupohja, sillaselva.fi. Täytä keltaiset solut, muut lasketaan automaattisesti.
A3: Nimi
A4: Yritys / työnantaja
A5: Ajanjakso | B5: Helmikuu 2026
A7: Lähtöpäivä | B7: Lähtöaika | C7: Paluupäivä | D7: Paluuaika | E7: Reitti | F7: Matkan tarkoitus | G7: Ajetut km | H7: Ilmaisia aterioita / vrk | I7: Matkan kesto (h) | J7: Kilometrikorvaus | K7: Päiväraha | L7: Yhteensä
A8: 46069 | B8: 0.33333333 | C8: 46069 | D8: 0.72916667 | E8: Helsinki - Lahti - Helsinki | F8: Asiakastapaaminen, StartHub | G8: 212 | H8: 0 | I8: =IF(OR(N8="",O8=""),"",IF(O8<=N8,"Tarkista ajat",ROUND((O8-N8)*24,2))) -> 9.5 | J8: =IF(G8="","",G8*Korvaukset!$B$4) -> 116.6 | K8: =IF(NOT(ISNUMBER(I8)),"",IF(I8<=24,IF(I8>10,IF(H8>=2,Korvaukset!$B$5/2,Korvaukset!$B$5),IF(I8>6,IF(H8>=1,Korvaukset!$B$6/2,Korvaukset!$B$6),0)),INT(I8/24)*IF(H8>=2,Korvaukset!$B$5/2,Korvaukset!$B$5)+IF(MOD(I8,24)>6,IF(H8>=2,Korvaukset!$B$5/2,Korvaukset!$B$5),IF(MOD(I8,24)>=2,IF(H8>=1,Korvaukset!$B$6/2,Korvaukset!$B$6),0)))) -> 25 | L8: =IF(AND(J8="",K8=""),"",SUM(J8,K8)) -> 141.6 | N8: =IF(OR(A8="",B8=""),"",IFERROR(IF(ISNUMBER(A8),A8,DATE(VALUE(MID(TRIM(A8),FIND(".",TRIM(A8),FIND(".",TRIM(A8))+1)+1,4))+IF(VALUE(MID(TRIM(A8),FIND(".",TRIM(A8),FIND(".",TRIM(A8))+1)+1,4))<100,2000,0),VALUE(MID(TRIM(A8),FIND(".",TRIM(A8))+1,FIND(".",TRIM(A8),FIND(".",TRIM(A8))+1)-FIND(".",TRIM(A8))-1)),VALUE(LEFT(TRIM(A8),FIND(".",TRIM(A8))-1))))+IF(ISNUMBER(B8),IF(B8>=1,(INT(B8)+ROUND(MOD(B8,1)*100,0)/60)/24,B8),(VALUE(LEFT(SUBSTITUTE(TRIM(B8),".",":"),FIND(":",SUBSTITUTE(TRIM(B8),".",":")&":")-1))+IFERROR(VALUE(LEFT(MID(SUBSTITUTE(TRIM(B8),".",":"),FIND(":",SUBSTITUTE(TRIM(B8),".",":"))+1,2)&"0",2)),0)/60)/24),"")) -> 46069.333 | O8: =IF(OR(C8="",D8=""),"",IFERROR(IF(ISNUMBER(C8),C8,DATE(VALUE(MID(TRIM(C8),FIND(".",TRIM(C8),FIND(".",TRIM(C8))+1)+1,4))+IF(VALUE(MID(TRIM(C8),FIND(".",TRIM(C8),FIND(".",TRIM(C8))+1)+1,4))<100,2000,0),VALUE(MID(TRIM(C8),FIND(".",TRIM(C8))+1,FIND(".",TRIM(C8),FIND(".",TRIM(C8))+1)-FIND(".",TRIM(C8))-1)),VALUE(LEFT(TRIM(C8),FIND(".",TRIM(C8))-1))))+IF(ISNUMBER(D8),IF(D8>=1,(INT(D8)+ROUND(MOD(D8,1)*100,0)/60)/24,D8),(VALUE(LEFT(SUBSTITUTE(TRIM(D8),".",":"),FIND(":",SUBSTITUTE(TRIM(D8),".",":")&":")-1))+IFERROR(VALUE(LEFT(MID(SUBSTITUTE(TRIM(D8),".",":"),FIND(":",SUBSTITUTE(TRIM(D8),".",":"))+1,2)&"0",2)),0)/60)/24),"")) -> 46069.729
A9: 46076 | B9: 0.375 | C9: 46077 | D9: 0.79166667 | E9: Helsinki - Tampere - Helsinki | F9: Koulutus | G9: 360 | H9: 0 | I9: =IF(OR(N9="",O9=""),"",IF(O9<=N9,"Tarkista ajat",ROUND((O9-N9)*24,2))) -> 34 | J9: =IF(G9="","",G9*Korvaukset!$B$4) -> 198 | K9: =IF(NOT(ISNUMBER(I9)),"",IF(I9<=24,IF(I9>10,IF(H9>=2,Korvaukset!$B$5/2,Korvaukset!$B$5),IF(I9>6,IF(H9>=1,Korvaukset!$B$6/2,Korvaukset!$B$6),0)),INT(I9/24)*IF(H9>=2,Korvaukset!$B$5/2,Korvaukset!$B$5)+IF(MOD(I9,24)>6,IF(H9>=2,Korvaukset!$B$5/2,Korvaukset!$B$5),IF(MOD(I9,24)>=2,IF(H9>=1,Korvaukset!$B$6/2,Korvaukset!$B$6),0)))) -> 108 | L9: =IF(AND(J9="",K9=""),"",SUM(J9,K9)) -> 306 | N9: =IF(OR(A9="",B9=""),"",IFERROR(IF(ISNUMBER(A9),A9,DATE(VALUE(MID(TRIM(A9),FIND(".",TRIM(A9),FIND(".",TRIM(A9))+1)+1,4))+IF(VALUE(MID(TRIM(A9),FIND(".",TRIM(A9),FIND(".",TRIM(A9))+1)+1,4))<100,2000,0),VALUE(MID(TRIM(A9),FIND(".",TRIM(A9))+1,FIND(".",TRIM(A9),FIND(".",TRIM(A9))+1)-FIND(".",TRIM(A9))-1)),VALUE(LEFT(TRIM(A9),FIND(".",TRIM(A9))-1))))+IF(ISNUMBER(B9),IF(B9>=1,(INT(B9)+ROUND(MOD(B9,1)*100,0)/60)/24,B9),(VALUE(LEFT(SUBSTITUTE(TRIM(B9),".",":"),FIND(":",SUBSTITUTE(TRIM(B9),".",":")&":")-1))+IFERROR(VALUE(LEFT(MID(SUBSTITUTE(TRIM(B9),".",":"),FIND(":",SUBSTITUTE(TRIM(B9),".",":"))+1,2)&"0",2)),0)/60)/24),"")) -> 46076.375 | O9: =IF(OR(C9="",D9=""),"",IFERROR(IF(ISNUMBER(C9),C9,DATE(VALUE(MID(TRIM(C9),FIND(".",TRIM(C9),FIND(".",TRIM(C9))+1)+1,4))+IF(VALUE(MID(TRIM(C9),FIND(".",TRIM(C9),FIND(".",TRIM(C9))+1)+1,4))<100,2000,0),VALUE(MID(TRIM(C9),FIND(".",TRIM(C9))+1,FIND(".",TRIM(C9),FIND(".",TRIM(C9))+1)-FIND(".",TRIM(C9))-1)),VALUE(LEFT(TRIM(C9),FIND(".",TRIM(C9))-1))))+IF(ISNUMBER(D9),IF(D9>=1,(INT(D9)+ROUND(MOD(D9,1)*100,0)/60)/24,D9),(VALUE(LEFT(SUBSTITUTE(TRIM(D9),".",":"),FIND(":",SUBSTITUTE(TRIM(D9),".",":")&":")-1))+IFERROR(VALUE(LEFT(MID(SUBSTITUTE(TRIM(D9),".",":"),FIND(":",SUBSTITUTE(TRIM(D9),".",":"))+1,2)&"0",2)),0)/60)/24),"")) -> 46077.792
I10: =IF(OR(N10="",O10=""),"",IF(O10<=N10,"Tarkista ajat",ROUND((O10-N10)*24,2))) | J10: =IF(G10="","",G10*Korvaukset!$B$4) | K10: =IF(NOT(ISNUMBER(I10)),"",IF(I10<=24,IF(I10>10,IF(H10>=2,Korvaukset!$B$5/2,Korvaukset!$B$5),IF(I10>6,IF(H10>=1,Korvaukset!$B$6/2,Korvaukset!$B$6),0)),INT(I10/24)*IF(H10>=2,Korvaukset!$B$5/2,Korvaukset!$B$5)+IF(MOD(I10,24)>6,IF(H10>=2,Korvaukset!$B$5/2,Korvaukset!$B$5),IF(MOD(I10,24)>=2,IF(H10>=1,Korvaukset!$B$6/2,Korvaukset!$B$6),0)))) | L10: =IF(AND(J10="",K10=""),"",SUM(J10,K10)) | N10: =IF(OR(A10="",B10=""),"",IFERROR(IF(ISNUMBER(A10),A10,DATE(VALUE(MID(TRIM(A10),FIND(".",TRIM(A10),FIND(".",TRIM(A10))+1)+1,4))+IF(VALUE(MID(TRIM(A10),FIND(".",TRIM(A10),FIND(".",TRIM(A10))+1)+1,4))<100,2000,0),VALUE(MID(TRIM(A10),FIND(".",TRIM(A10))+1,FIND(".",TRIM(A10),FIND(".",TRIM(A10))+1)-FIND(".",TRIM(A10))-1)),VALUE(LEFT(TRIM(A10),FIND(".",TRIM(A10))-1))))+IF(ISNUMBER(B10),IF(B10>=1,(INT(B10)+ROUND(MOD(B10,1)*100,0)/60)/24,B10),(VALUE(LEFT(SUBSTITUTE(TRIM(B10),".",":"),FIND(":",SUBSTITUTE(TRIM(B10),".",":")&":")-1))+IFERROR(VALUE(LEFT(MID(SUBSTITUTE(TRIM(B10),".",":"),FIND(":",SUBSTITUTE(TRIM(B10),".",":"))+1,2)&"0",2)),0)/60)/24),"")) | O10: =IF(OR(C10="",D10=""),"",IFERROR(IF(ISNUMBER(C10),C10,DATE(VALUE(MID(TRIM(C10),FIND(".",TRIM(C10),FIND(".",TRIM(C10))+1)+1,4))+IF(VALUE(MID(TRIM(C10),FIND(".",TRIM(C10),FIND(".",TRIM(C10))+1)+1,4))<100,2000,0),VALUE(MID(TRIM(C10),FIND(".",TRIM(C10))+1,FIND(".",TRIM(C10),FIND(".",TRIM(C10))+1)-FIND(".",TRIM(C10))-1)),VALUE(LEFT(TRIM(C10),FIND(".",TRIM(C10))-1))))+IF(ISNUMBER(D10),IF(D10>=1,(INT(D10)+ROUND(MOD(D10,1)*100,0)/60)/24,D10),(VALUE(LEFT(SUBSTITUTE(TRIM(D10),".",":"),FIND(":",SUBSTITUTE(TRIM(D10),".",":")&":")-1))+IFERROR(VALUE(LEFT(MID(SUBSTITUTE(TRIM(D10),".",":"),FIND(":",SUBSTITUTE(TRIM(D10),".",":"))+1,2)&"0",2)),0)/60)/24),""))
I11: =IF(OR(N11="",O11=""),"",IF(O11<=N11,"Tarkista ajat",ROUND((O11-N11)*24,2))) | J11: =IF(G11="","",G11*Korvaukset!$B$4) | K11: =IF(NOT(ISNUMBER(I11)),"",IF(I11<=24,IF(I11>10,IF(H11>=2,Korvaukset!$B$5/2,Korvaukset!$B$5),IF(I11>6,IF(H11>=1,Korvaukset!$B$6/2,Korvaukset!$B$6),0)),INT(I11/24)*IF(H11>=2,Korvaukset!$B$5/2,Korvaukset!$B$5)+IF(MOD(I11,24)>6,IF(H11>=2,Korvaukset!$B$5/2,Korvaukset!$B$5),IF(MOD(I11,24)>=2,IF(H11>=1,Korvaukset!$B$6/2,Korvaukset!$B$6),0)))) | L11: =IF(AND(J11="",K11=""),"",SUM(J11,K11)) | N11: =IF(OR(A11="",B11=""),"",IFERROR(IF(ISNUMBER(A11),A11,DATE(VALUE(MID(TRIM(A11),FIND(".",TRIM(A11),FIND(".",TRIM(A11))+1)+1,4))+IF(VALUE(MID(TRIM(A11),FIND(".",TRIM(A11),FIND(".",TRIM(A11))+1)+1,4))<100,2000,0),VALUE(MID(TRIM(A11),FIND(".",TRIM(A11))+1,FIND(".",TRIM(A11),FIND(".",TRIM(A11))+1)-FIND(".",TRIM(A11))-1)),VALUE(LEFT(TRIM(A11),FIND(".",TRIM(A11))-1))))+IF(ISNUMBER(B11),IF(B11>=1,(INT(B11)+ROUND(MOD(B11,1)*100,0)/60)/24,B11),(VALUE(LEFT(SUBSTITUTE(TRIM(B11),".",":"),FIND(":",SUBSTITUTE(TRIM(B11),".",":")&":")-1))+IFERROR(VALUE(LEFT(MID(SUBSTITUTE(TRIM(B11),".",":"),FIND(":",SUBSTITUTE(TRIM(B11),".",":"))+1,2)&"0",2)),0)/60)/24),"")) | O11: =IF(OR(C11="",D11=""),"",IFERROR(IF(ISNUMBER(C11),C11,DATE(VALUE(MID(TRIM(C11),FIND(".",TRIM(C11),FIND(".",TRIM(C11))+1)+1,4))+IF(VALUE(MID(TRIM(C11),FIND(".",TRIM(C11),FIND(".",TRIM(C11))+1)+1,4))<100,2000,0),VALUE(MID(TRIM(C11),FIND(".",TRIM(C11))+1,FIND(".",TRIM(C11),FIND(".",TRIM(C11))+1)-FIND(".",TRIM(C11))-1)),VALUE(LEFT(TRIM(C11),FIND(".",TRIM(C11))-1))))+IF(ISNUMBER(D11),IF(D11>=1,(INT(D11)+ROUND(MOD(D11,1)*100,0)/60)/24,D11),(VALUE(LEFT(SUBSTITUTE(TRIM(D11),".",":"),FIND(":",SUBSTITUTE(TRIM(D11),".",":")&":")-1))+IFERROR(VALUE(LEFT(MID(SUBSTITUTE(TRIM(D11),".",":"),FIND(":",SUBSTITUTE(TRIM(D11),".",":"))+1,2)&"0",2)),0)/60)/24),""))
I12: =IF(OR(N12="",O12=""),"",IF(O12<=N12,"Tarkista ajat",ROUND((O12-N12)*24,2))) | J12: =IF(G12="","",G12*Korvaukset!$B$4) | K12: =IF(NOT(ISNUMBER(I12)),"",IF(I12<=24,IF(I12>10,IF(H12>=2,Korvaukset!$B$5/2,Korvaukset!$B$5),IF(I12>6,IF(H12>=1,Korvaukset!$B$6/2,Korvaukset!$B$6),0)),INT(I12/24)*IF(H12>=2,Korvaukset!$B$5/2,Korvaukset!$B$5)+IF(MOD(I12,24)>6,IF(H12>=2,Korvaukset!$B$5/2,Korvaukset!$B$5),IF(MOD(I12,24)>=2,IF(H12>=1,Korvaukset!$B$6/2,Korvaukset!$B$6),0)))) | L12: =IF(AND(J12="",K12=""),"",SUM(J12,K12)) | N12: =IF(OR(A12="",B12=""),"",IFERROR(IF(ISNUMBER(A12),A12,DATE(VALUE(MID(TRIM(A12),FIND(".",TRIM(A12),FIND(".",TRIM(A12))+1)+1,4))+IF(VALUE(MID(TRIM(A12),FIND(".",TRIM(A12),FIND(".",TRIM(A12))+1)+1,4))<100,2000,0),VALUE(MID(TRIM(A12),FIND(".",TRIM(A12))+1,FIND(".",TRIM(A12),FIND(".",TRIM(A12))+1)-FIND(".",TRIM(A12))-1)),VALUE(LEFT(TRIM(A12),FIND(".",TRIM(A12))-1))))+IF(ISNUMBER(B12),IF(B12>=1,(INT(B12)+ROUND(MOD(B12,1)*100,0)/60)/24,B12),(VALUE(LEFT(SUBSTITUTE(TRIM(B12),".",":"),FIND(":",SUBSTITUTE(TRIM(B12),".",":")&":")-1))+IFERROR(VALUE(LEFT(MID(SUBSTITUTE(TRIM(B12),".",":"),FIND(":",SUBSTITUTE(TRIM(B12),".",":"))+1,2)&"0",2)),0)/60)/24),"")) | O12: =IF(OR(C12="",D12=""),"",IFERROR(IF(ISNUMBER(C12),C12,DATE(VALUE(MID(TRIM(C12),FIND(".",TRIM(C12),FIND(".",TRIM(C12))+1)+1,4))+IF(VALUE(MID(TRIM(C12),FIND(".",TRIM(C12),FIND(".",TRIM(C12))+1)+1,4))<100,2000,0),VALUE(MID(TRIM(C12),FIND(".",TRIM(C12))+1,FIND(".",TRIM(C12),FIND(".",TRIM(C12))+1)-FIND(".",TRIM(C12))-1)),VALUE(LEFT(TRIM(C12),FIND(".",TRIM(C12))-1))))+IF(ISNUMBER(D12),IF(D12>=1,(INT(D12)+ROUND(MOD(D12,1)*100,0)/60)/24,D12),(VALUE(LEFT(SUBSTITUTE(TRIM(D12),".",":"),FIND(":",SUBSTITUTE(TRIM(D12),".",":")&":")-1))+IFERROR(VALUE(LEFT(MID(SUBSTITUTE(TRIM(D12),".",":"),FIND(":",SUBSTITUTE(TRIM(D12),".",":"))+1,2)&"0",2)),0)/60)/24),""))
I13: =IF(OR(N13="",O13=""),"",IF(O13<=N13,"Tarkista ajat",ROUND((O13-N13)*24,2))) | J13: =IF(G13="","",G13*Korvaukset!$B$4) | K13: =IF(NOT(ISNUMBER(I13)),"",IF(I13<=24,IF(I13>10,IF(H13>=2,Korvaukset!$B$5/2,Korvaukset!$B$5),IF(I13>6,IF(H13>=1,Korvaukset!$B$6/2,Korvaukset!$B$6),0)),INT(I13/24)*IF(H13>=2,Korvaukset!$B$5/2,Korvaukset!$B$5)+IF(MOD(I13,24)>6,IF(H13>=2,Korvaukset!$B$5/2,Korvaukset!$B$5),IF(MOD(I13,24)>=2,IF(H13>=1,Korvaukset!$B$6/2,Korvaukset!$B$6),0)))) | L13: =IF(AND(J13="",K13=""),"",SUM(J13,K13)) | N13: =IF(OR(A13="",B13=""),"",IFERROR(IF(ISNUMBER(A13),A13,DATE(VALUE(MID(TRIM(A13),FIND(".",TRIM(A13),FIND(".",TRIM(A13))+1)+1,4))+IF(VALUE(MID(TRIM(A13),FIND(".",TRIM(A13),FIND(".",TRIM(A13))+1)+1,4))<100,2000,0),VALUE(MID(TRIM(A13),FIND(".",TRIM(A13))+1,FIND(".",TRIM(A13),FIND(".",TRIM(A13))+1)-FIND(".",TRIM(A13))-1)),VALUE(LEFT(TRIM(A13),FIND(".",TRIM(A13))-1))))+IF(ISNUMBER(B13),IF(B13>=1,(INT(B13)+ROUND(MOD(B13,1)*100,0)/60)/24,B13),(VALUE(LEFT(SUBSTITUTE(TRIM(B13),".",":"),FIND(":",SUBSTITUTE(TRIM(B13),".",":")&":")-1))+IFERROR(VALUE(LEFT(MID(SUBSTITUTE(TRIM(B13),".",":"),FIND(":",SUBSTITUTE(TRIM(B13),".",":"))+1,2)&"0",2)),0)/60)/24),"")) | O13: =IF(OR(C13="",D13=""),"",IFERROR(IF(ISNUMBER(C13),C13,DATE(VALUE(MID(TRIM(C13),FIND(".",TRIM(C13),FIND(".",TRIM(C13))+1)+1,4))+IF(VALUE(MID(TRIM(C13),FIND(".",TRIM(C13),FIND(".",TRIM(C13))+1)+1,4))<100,2000,0),VALUE(MID(TRIM(C13),FIND(".",TRIM(C13))+1,FIND(".",TRIM(C13),FIND(".",TRIM(C13))+1)-FIND(".",TRIM(C13))-1)),VALUE(LEFT(TRIM(C13),FIND(".",TRIM(C13))-1))))+IF(ISNUMBER(D13),IF(D13>=1,(INT(D13)+ROUND(MOD(D13,1)*100,0)/60)/24,D13),(VALUE(LEFT(SUBSTITUTE(TRIM(D13),".",":"),FIND(":",SUBSTITUTE(TRIM(D13),".",":")&":")-1))+IFERROR(VALUE(LEFT(MID(SUBSTITUTE(TRIM(D13),".",":"),FIND(":",SUBSTITUTE(TRIM(D13),".",":"))+1,2)&"0",2)),0)/60)/24),""))
I14: =IF(OR(N14="",O14=""),"",IF(O14<=N14,"Tarkista ajat",ROUND((O14-N14)*24,2))) | J14: =IF(G14="","",G14*Korvaukset!$B$4) | K14: =IF(NOT(ISNUMBER(I14)),"",IF(I14<=24,IF(I14>10,IF(H14>=2,Korvaukset!$B$5/2,Korvaukset!$B$5),IF(I14>6,IF(H14>=1,Korvaukset!$B$6/2,Korvaukset!$B$6),0)),INT(I14/24)*IF(H14>=2,Korvaukset!$B$5/2,Korvaukset!$B$5)+IF(MOD(I14,24)>6,IF(H14>=2,Korvaukset!$B$5/2,Korvaukset!$B$5),IF(MOD(I14,24)>=2,IF(H14>=1,Korvaukset!$B$6/2,Korvaukset!$B$6),0)))) | L14: =IF(AND(J14="",K14=""),"",SUM(J14,K14)) | N14: =IF(OR(A14="",B14=""),"",IFERROR(IF(ISNUMBER(A14),A14,DATE(VALUE(MID(TRIM(A14),FIND(".",TRIM(A14),FIND(".",TRIM(A14))+1)+1,4))+IF(VALUE(MID(TRIM(A14),FIND(".",TRIM(A14),FIND(".",TRIM(A14))+1)+1,4))<100,2000,0),VALUE(MID(TRIM(A14),FIND(".",TRIM(A14))+1,FIND(".",TRIM(A14),FIND(".",TRIM(A14))+1)-FIND(".",TRIM(A14))-1)),VALUE(LEFT(TRIM(A14),FIND(".",TRIM(A14))-1))))+IF(ISNUMBER(B14),IF(B14>=1,(INT(B14)+ROUND(MOD(B14,1)*100,0)/60)/24,B14),(VALUE(LEFT(SUBSTITUTE(TRIM(B14),".",":"),FIND(":",SUBSTITUTE(TRIM(B14),".",":")&":")-1))+IFERROR(VALUE(LEFT(MID(SUBSTITUTE(TRIM(B14),".",":"),FIND(":",SUBSTITUTE(TRIM(B14),".",":"))+1,2)&"0",2)),0)/60)/24),"")) | O14: =IF(OR(C14="",D14=""),"",IFERROR(IF(ISNUMBER(C14),C14,DATE(VALUE(MID(TRIM(C14),FIND(".",TRIM(C14),FIND(".",TRIM(C14))+1)+1,4))+IF(VALUE(MID(TRIM(C14),FIND(".",TRIM(C14),FIND(".",TRIM(C14))+1)+1,4))<100,2000,0),VALUE(MID(TRIM(C14),FIND(".",TRIM(C14))+1,FIND(".",TRIM(C14),FIND(".",TRIM(C14))+1)-FIND(".",TRIM(C14))-1)),VALUE(LEFT(TRIM(C14),FIND(".",TRIM(C14))-1))))+IF(ISNUMBER(D14),IF(D14>=1,(INT(D14)+ROUND(MOD(D14,1)*100,0)/60)/24,D14),(VALUE(LEFT(SUBSTITUTE(TRIM(D14),".",":"),FIND(":",SUBSTITUTE(TRIM(D14),".",":")&":")-1))+IFERROR(VALUE(LEFT(MID(SUBSTITUTE(TRIM(D14),".",":"),FIND(":",SUBSTITUTE(TRIM(D14),".",":"))+1,2)&"0",2)),0)/60)/24),""))
I15: =IF(OR(N15="",O15=""),"",IF(O15<=N15,"Tarkista ajat",ROUND((O15-N15)*24,2))) | J15: =IF(G15="","",G15*Korvaukset!$B$4) | K15: =IF(NOT(ISNUMBER(I15)),"",IF(I15<=24,IF(I15>10,IF(H15>=2,Korvaukset!$B$5/2,Korvaukset!$B$5),IF(I15>6,IF(H15>=1,Korvaukset!$B$6/2,Korvaukset!$B$6),0)),INT(I15/24)*IF(H15>=2,Korvaukset!$B$5/2,Korvaukset!$B$5)+IF(MOD(I15,24)>6,IF(H15>=2,Korvaukset!$B$5/2,Korvaukset!$B$5),IF(MOD(I15,24)>=2,IF(H15>=1,Korvaukset!$B$6/2,Korvaukset!$B$6),0)))) | L15: =IF(AND(J15="",K15=""),"",SUM(J15,K15)) | N15: =IF(OR(A15="",B15=""),"",IFERROR(IF(ISNUMBER(A15),A15,DATE(VALUE(MID(TRIM(A15),FIND(".",TRIM(A15),FIND(".",TRIM(A15))+1)+1,4))+IF(VALUE(MID(TRIM(A15),FIND(".",TRIM(A15),FIND(".",TRIM(A15))+1)+1,4))<100,2000,0),VALUE(MID(TRIM(A15),FIND(".",TRIM(A15))+1,FIND(".",TRIM(A15),FIND(".",TRIM(A15))+1)-FIND(".",TRIM(A15))-1)),VALUE(LEFT(TRIM(A15),FIND(".",TRIM(A15))-1))))+IF(ISNUMBER(B15),IF(B15>=1,(INT(B15)+ROUND(MOD(B15,1)*100,0)/60)/24,B15),(VALUE(LEFT(SUBSTITUTE(TRIM(B15),".",":"),FIND(":",SUBSTITUTE(TRIM(B15),".",":")&":")-1))+IFERROR(VALUE(LEFT(MID(SUBSTITUTE(TRIM(B15),".",":"),FIND(":",SUBSTITUTE(TRIM(B15),".",":"))+1,2)&"0",2)),0)/60)/24),"")) | O15: =IF(OR(C15="",D15=""),"",IFERROR(IF(ISNUMBER(C15),C15,DATE(VALUE(MID(TRIM(C15),FIND(".",TRIM(C15),FIND(".",TRIM(C15))+1)+1,4))+IF(VALUE(MID(TRIM(C15),FIND(".",TRIM(C15),FIND(".",TRIM(C15))+1)+1,4))<100,2000,0),VALUE(MID(TRIM(C15),FIND(".",TRIM(C15))+1,FIND(".",TRIM(C15),FIND(".",TRIM(C15))+1)-FIND(".",TRIM(C15))-1)),VALUE(LEFT(TRIM(C15),FIND(".",TRIM(C15))-1))))+IF(ISNUMBER(D15),IF(D15>=1,(INT(D15)+ROUND(MOD(D15,1)*100,0)/60)/24,D15),(VALUE(LEFT(SUBSTITUTE(TRIM(D15),".",":"),FIND(":",SUBSTITUTE(TRIM(D15),".",":")&":")-1))+IFERROR(VALUE(LEFT(MID(SUBSTITUTE(TRIM(D15),".",":"),FIND(":",SUBSTITUTE(TRIM(D15),".",":"))+1,2)&"0",2)),0)/60)/24),""))
I16: =IF(OR(N16="",O16=""),"",IF(O16<=N16,"Tarkista ajat",ROUND((O16-N16)*24,2))) | J16: =IF(G16="","",G16*Korvaukset!$B$4) | K16: =IF(NOT(ISNUMBER(I16)),"",IF(I16<=24,IF(I16>10,IF(H16>=2,Korvaukset!$B$5/2,Korvaukset!$B$5),IF(I16>6,IF(H16>=1,Korvaukset!$B$6/2,Korvaukset!$B$6),0)),INT(I16/24)*IF(H16>=2,Korvaukset!$B$5/2,Korvaukset!$B$5)+IF(MOD(I16,24)>6,IF(H16>=2,Korvaukset!$B$5/2,Korvaukset!$B$5),IF(MOD(I16,24)>=2,IF(H16>=1,Korvaukset!$B$6/2,Korvaukset!$B$6),0)))) | L16: =IF(AND(J16="",K16=""),"",SUM(J16,K16)) | N16: =IF(OR(A16="",B16=""),"",IFERROR(IF(ISNUMBER(A16),A16,DATE(VALUE(MID(TRIM(A16),FIND(".",TRIM(A16),FIND(".",TRIM(A16))+1)+1,4))+IF(VALUE(MID(TRIM(A16),FIND(".",TRIM(A16),FIND(".",TRIM(A16))+1)+1,4))<100,2000,0),VALUE(MID(TRIM(A16),FIND(".",TRIM(A16))+1,FIND(".",TRIM(A16),FIND(".",TRIM(A16))+1)-FIND(".",TRIM(A16))-1)),VALUE(LEFT(TRIM(A16),FIND(".",TRIM(A16))-1))))+IF(ISNUMBER(B16),IF(B16>=1,(INT(B16)+ROUND(MOD(B16,1)*100,0)/60)/24,B16),(VALUE(LEFT(SUBSTITUTE(TRIM(B16),".",":"),FIND(":",SUBSTITUTE(TRIM(B16),".",":")&":")-1))+IFERROR(VALUE(LEFT(MID(SUBSTITUTE(TRIM(B16),".",":"),FIND(":",SUBSTITUTE(TRIM(B16),".",":"))+1,2)&"0",2)),0)/60)/24),"")) | O16: =IF(OR(C16="",D16=""),"",IFERROR(IF(ISNUMBER(C16),C16,DATE(VALUE(MID(TRIM(C16),FIND(".",TRIM(C16),FIND(".",TRIM(C16))+1)+1,4))+IF(VALUE(MID(TRIM(C16),FIND(".",TRIM(C16),FIND(".",TRIM(C16))+1)+1,4))<100,2000,0),VALUE(MID(TRIM(C16),FIND(".",TRIM(C16))+1,FIND(".",TRIM(C16),FIND(".",TRIM(C16))+1)-FIND(".",TRIM(C16))-1)),VALUE(LEFT(TRIM(C16),FIND(".",TRIM(C16))-1))))+IF(ISNUMBER(D16),IF(D16>=1,(INT(D16)+ROUND(MOD(D16,1)*100,0)/60)/24,D16),(VALUE(LEFT(SUBSTITUTE(TRIM(D16),".",":"),FIND(":",SUBSTITUTE(TRIM(D16),".",":")&":")-1))+IFERROR(VALUE(LEFT(MID(SUBSTITUTE(TRIM(D16),".",":"),FIND(":",SUBSTITUTE(TRIM(D16),".",":"))+1,2)&"0",2)),0)/60)/24),""))
I17: =IF(OR(N17="",O17=""),"",IF(O17<=N17,"Tarkista ajat",ROUND((O17-N17)*24,2))) | J17: =IF(G17="","",G17*Korvaukset!$B$4) | K17: =IF(NOT(ISNUMBER(I17)),"",IF(I17<=24,IF(I17>10,IF(H17>=2,Korvaukset!$B$5/2,Korvaukset!$B$5),IF(I17>6,IF(H17>=1,Korvaukset!$B$6/2,Korvaukset!$B$6),0)),INT(I17/24)*IF(H17>=2,Korvaukset!$B$5/2,Korvaukset!$B$5)+IF(MOD(I17,24)>6,IF(H17>=2,Korvaukset!$B$5/2,Korvaukset!$B$5),IF(MOD(I17,24)>=2,IF(H17>=1,Korvaukset!$B$6/2,Korvaukset!$B$6),0)))) | L17: =IF(AND(J17="",K17=""),"",SUM(J17,K17)) | N17: =IF(OR(A17="",B17=""),"",IFERROR(IF(ISNUMBER(A17),A17,DATE(VALUE(MID(TRIM(A17),FIND(".",TRIM(A17),FIND(".",TRIM(A17))+1)+1,4))+IF(VALUE(MID(TRIM(A17),FIND(".",TRIM(A17),FIND(".",TRIM(A17))+1)+1,4))<100,2000,0),VALUE(MID(TRIM(A17),FIND(".",TRIM(A17))+1,FIND(".",TRIM(A17),FIND(".",TRIM(A17))+1)-FIND(".",TRIM(A17))-1)),VALUE(LEFT(TRIM(A17),FIND(".",TRIM(A17))-1))))+IF(ISNUMBER(B17),IF(B17>=1,(INT(B17)+ROUND(MOD(B17,1)*100,0)/60)/24,B17),(VALUE(LEFT(SUBSTITUTE(TRIM(B17),".",":"),FIND(":",SUBSTITUTE(TRIM(B17),".",":")&":")-1))+IFERROR(VALUE(LEFT(MID(SUBSTITUTE(TRIM(B17),".",":"),FIND(":",SUBSTITUTE(TRIM(B17),".",":"))+1,2)&"0",2)),0)/60)/24),"")) | O17: =IF(OR(C17="",D17=""),"",IFERROR(IF(ISNUMBER(C17),C17,DATE(VALUE(MID(TRIM(C17),FIND(".",TRIM(C17),FIND(".",TRIM(C17))+1)+1,4))+IF(VALUE(MID(TRIM(C17),FIND(".",TRIM(C17),FIND(".",TRIM(C17))+1)+1,4))<100,2000,0),VALUE(MID(TRIM(C17),FIND(".",TRIM(C17))+1,FIND(".",TRIM(C17),FIND(".",TRIM(C17))+1)-FIND(".",TRIM(C17))-1)),VALUE(LEFT(TRIM(C17),FIND(".",TRIM(C17))-1))))+IF(ISNUMBER(D17),IF(D17>=1,(INT(D17)+ROUND(MOD(D17,1)*100,0)/60)/24,D17),(VALUE(LEFT(SUBSTITUTE(TRIM(D17),".",":"),FIND(":",SUBSTITUTE(TRIM(D17),".",":")&":")-1))+IFERROR(VALUE(LEFT(MID(SUBSTITUTE(TRIM(D17),".",":"),FIND(":",SUBSTITUTE(TRIM(D17),".",":"))+1,2)&"0",2)),0)/60)/24),""))
I18: =IF(OR(N18="",O18=""),"",IF(O18<=N18,"Tarkista ajat",ROUND((O18-N18)*24,2))) | J18: =IF(G18="","",G18*Korvaukset!$B$4) | K18: =IF(NOT(ISNUMBER(I18)),"",IF(I18<=24,IF(I18>10,IF(H18>=2,Korvaukset!$B$5/2,Korvaukset!$B$5),IF(I18>6,IF(H18>=1,Korvaukset!$B$6/2,Korvaukset!$B$6),0)),INT(I18/24)*IF(H18>=2,Korvaukset!$B$5/2,Korvaukset!$B$5)+IF(MOD(I18,24)>6,IF(H18>=2,Korvaukset!$B$5/2,Korvaukset!$B$5),IF(MOD(I18,24)>=2,IF(H18>=1,Korvaukset!$B$6/2,Korvaukset!$B$6),0)))) | L18: =IF(AND(J18="",K18=""),"",SUM(J18,K18)) | N18: =IF(OR(A18="",B18=""),"",IFERROR(IF(ISNUMBER(A18),A18,DATE(VALUE(MID(TRIM(A18),FIND(".",TRIM(A18),FIND(".",TRIM(A18))+1)+1,4))+IF(VALUE(MID(TRIM(A18),FIND(".",TRIM(A18),FIND(".",TRIM(A18))+1)+1,4))<100,2000,0),VALUE(MID(TRIM(A18),FIND(".",TRIM(A18))+1,FIND(".",TRIM(A18),FIND(".",TRIM(A18))+1)-FIND(".",TRIM(A18))-1)),VALUE(LEFT(TRIM(A18),FIND(".",TRIM(A18))-1))))+IF(ISNUMBER(B18),IF(B18>=1,(INT(B18)+ROUND(MOD(B18,1)*100,0)/60)/24,B18),(VALUE(LEFT(SUBSTITUTE(TRIM(B18),".",":"),FIND(":",SUBSTITUTE(TRIM(B18),".",":")&":")-1))+IFERROR(VALUE(LEFT(MID(SUBSTITUTE(TRIM(B18),".",":"),FIND(":",SUBSTITUTE(TRIM(B18),".",":"))+1,2)&"0",2)),0)/60)/24),"")) | O18: =IF(OR(C18="",D18=""),"",IFERROR(IF(ISNUMBER(C18),C18,DATE(VALUE(MID(TRIM(C18),FIND(".",TRIM(C18),FIND(".",TRIM(C18))+1)+1,4))+IF(VALUE(MID(TRIM(C18),FIND(".",TRIM(C18),FIND(".",TRIM(C18))+1)+1,4))<100,2000,0),VALUE(MID(TRIM(C18),FIND(".",TRIM(C18))+1,FIND(".",TRIM(C18),FIND(".",TRIM(C18))+1)-FIND(".",TRIM(C18))-1)),VALUE(LEFT(TRIM(C18),FIND(".",TRIM(C18))-1))))+IF(ISNUMBER(D18),IF(D18>=1,(INT(D18)+ROUND(MOD(D18,1)*100,0)/60)/24,D18),(VALUE(LEFT(SUBSTITUTE(TRIM(D18),".",":"),FIND(":",SUBSTITUTE(TRIM(D18),".",":")&":")-1))+IFERROR(VALUE(LEFT(MID(SUBSTITUTE(TRIM(D18),".",":"),FIND(":",SUBSTITUTE(TRIM(D18),".",":"))+1,2)&"0",2)),0)/60)/24),""))
I19: =IF(OR(N19="",O19=""),"",IF(O19<=N19,"Tarkista ajat",ROUND((O19-N19)*24,2))) | J19: =IF(G19="","",G19*Korvaukset!$B$4) | K19: =IF(NOT(ISNUMBER(I19)),"",IF(I19<=24,IF(I19>10,IF(H19>=2,Korvaukset!$B$5/2,Korvaukset!$B$5),IF(I19>6,IF(H19>=1,Korvaukset!$B$6/2,Korvaukset!$B$6),0)),INT(I19/24)*IF(H19>=2,Korvaukset!$B$5/2,Korvaukset!$B$5)+IF(MOD(I19,24)>6,IF(H19>=2,Korvaukset!$B$5/2,Korvaukset!$B$5),IF(MOD(I19,24)>=2,IF(H19>=1,Korvaukset!$B$6/2,Korvaukset!$B$6),0)))) | L19: =IF(AND(J19="",K19=""),"",SUM(J19,K19)) | N19: =IF(OR(A19="",B19=""),"",IFERROR(IF(ISNUMBER(A19),A19,DATE(VALUE(MID(TRIM(A19),FIND(".",TRIM(A19),FIND(".",TRIM(A19))+1)+1,4))+IF(VALUE(MID(TRIM(A19),FIND(".",TRIM(A19),FIND(".",TRIM(A19))+1)+1,4))<100,2000,0),VALUE(MID(TRIM(A19),FIND(".",TRIM(A19))+1,FIND(".",TRIM(A19),FIND(".",TRIM(A19))+1)-FIND(".",TRIM(A19))-1)),VALUE(LEFT(TRIM(A19),FIND(".",TRIM(A19))-1))))+IF(ISNUMBER(B19),IF(B19>=1,(INT(B19)+ROUND(MOD(B19,1)*100,0)/60)/24,B19),(VALUE(LEFT(SUBSTITUTE(TRIM(B19),".",":"),FIND(":",SUBSTITUTE(TRIM(B19),".",":")&":")-1))+IFERROR(VALUE(LEFT(MID(SUBSTITUTE(TRIM(B19),".",":"),FIND(":",SUBSTITUTE(TRIM(B19),".",":"))+1,2)&"0",2)),0)/60)/24),"")) | O19: =IF(OR(C19="",D19=""),"",IFERROR(IF(ISNUMBER(C19),C19,DATE(VALUE(MID(TRIM(C19),FIND(".",TRIM(C19),FIND(".",TRIM(C19))+1)+1,4))+IF(VALUE(MID(TRIM(C19),FIND(".",TRIM(C19),FIND(".",TRIM(C19))+1)+1,4))<100,2000,0),VALUE(MID(TRIM(C19),FIND(".",TRIM(C19))+1,FIND(".",TRIM(C19),FIND(".",TRIM(C19))+1)-FIND(".",TRIM(C19))-1)),VALUE(LEFT(TRIM(C19),FIND(".",TRIM(C19))-1))))+IF(ISNUMBER(D19),IF(D19>=1,(INT(D19)+ROUND(MOD(D19,1)*100,0)/60)/24,D19),(VALUE(LEFT(SUBSTITUTE(TRIM(D19),".",":"),FIND(":",SUBSTITUTE(TRIM(D19),".",":")&":")-1))+IFERROR(VALUE(LEFT(MID(SUBSTITUTE(TRIM(D19),".",":"),FIND(":",SUBSTITUTE(TRIM(D19),".",":"))+1,2)&"0",2)),0)/60)/24),""))
I20: =IF(OR(N20="",O20=""),"",IF(O20<=N20,"Tarkista ajat",ROUND((O20-N20)*24,2))) | J20: =IF(G20="","",G20*Korvaukset!$B$4) | K20: =IF(NOT(ISNUMBER(I20)),"",IF(I20<=24,IF(I20>10,IF(H20>=2,Korvaukset!$B$5/2,Korvaukset!$B$5),IF(I20>6,IF(H20>=1,Korvaukset!$B$6/2,Korvaukset!$B$6),0)),INT(I20/24)*IF(H20>=2,Korvaukset!$B$5/2,Korvaukset!$B$5)+IF(MOD(I20,24)>6,IF(H20>=2,Korvaukset!$B$5/2,Korvaukset!$B$5),IF(MOD(I20,24)>=2,IF(H20>=1,Korvaukset!$B$6/2,Korvaukset!$B$6),0)))) | L20: =IF(AND(J20="",K20=""),"",SUM(J20,K20)) | N20: =IF(OR(A20="",B20=""),"",IFERROR(IF(ISNUMBER(A20),A20,DATE(VALUE(MID(TRIM(A20),FIND(".",TRIM(A20),FIND(".",TRIM(A20))+1)+1,4))+IF(VALUE(MID(TRIM(A20),FIND(".",TRIM(A20),FIND(".",TRIM(A20))+1)+1,4))<100,2000,0),VALUE(MID(TRIM(A20),FIND(".",TRIM(A20))+1,FIND(".",TRIM(A20),FIND(".",TRIM(A20))+1)-FIND(".",TRIM(A20))-1)),VALUE(LEFT(TRIM(A20),FIND(".",TRIM(A20))-1))))+IF(ISNUMBER(B20),IF(B20>=1,(INT(B20)+ROUND(MOD(B20,1)*100,0)/60)/24,B20),(VALUE(LEFT(SUBSTITUTE(TRIM(B20),".",":"),FIND(":",SUBSTITUTE(TRIM(B20),".",":")&":")-1))+IFERROR(VALUE(LEFT(MID(SUBSTITUTE(TRIM(B20),".",":"),FIND(":",SUBSTITUTE(TRIM(B20),".",":"))+1,2)&"0",2)),0)/60)/24),"")) | O20: =IF(OR(C20="",D20=""),"",IFERROR(IF(ISNUMBER(C20),C20,DATE(VALUE(MID(TRIM(C20),FIND(".",TRIM(C20),FIND(".",TRIM(C20))+1)+1,4))+IF(VALUE(MID(TRIM(C20),FIND(".",TRIM(C20),FIND(".",TRIM(C20))+1)+1,4))<100,2000,0),VALUE(MID(TRIM(C20),FIND(".",TRIM(C20))+1,FIND(".",TRIM(C20),FIND(".",TRIM(C20))+1)-FIND(".",TRIM(C20))-1)),VALUE(LEFT(TRIM(C20),FIND(".",TRIM(C20))-1))))+IF(ISNUMBER(D20),IF(D20>=1,(INT(D20)+ROUND(MOD(D20,1)*100,0)/60)/24,D20),(VALUE(LEFT(SUBSTITUTE(TRIM(D20),".",":"),FIND(":",SUBSTITUTE(TRIM(D20),".",":")&":")-1))+IFERROR(VALUE(LEFT(MID(SUBSTITUTE(TRIM(D20),".",":"),FIND(":",SUBSTITUTE(TRIM(D20),".",":"))+1,2)&"0",2)),0)/60)/24),""))
I21: =IF(OR(N21="",O21=""),"",IF(O21<=N21,"Tarkista ajat",ROUND((O21-N21)*24,2))) | J21: =IF(G21="","",G21*Korvaukset!$B$4) | K21: =IF(NOT(ISNUMBER(I21)),"",IF(I21<=24,IF(I21>10,IF(H21>=2,Korvaukset!$B$5/2,Korvaukset!$B$5),IF(I21>6,IF(H21>=1,Korvaukset!$B$6/2,Korvaukset!$B$6),0)),INT(I21/24)*IF(H21>=2,Korvaukset!$B$5/2,Korvaukset!$B$5)+IF(MOD(I21,24)>6,IF(H21>=2,Korvaukset!$B$5/2,Korvaukset!$B$5),IF(MOD(I21,24)>=2,IF(H21>=1,Korvaukset!$B$6/2,Korvaukset!$B$6),0)))) | L21: =IF(AND(J21="",K21=""),"",SUM(J21,K21)) | N21: =IF(OR(A21="",B21=""),"",IFERROR(IF(ISNUMBER(A21),A21,DATE(VALUE(MID(TRIM(A21),FIND(".",TRIM(A21),FIND(".",TRIM(A21))+1)+1,4))+IF(VALUE(MID(TRIM(A21),FIND(".",TRIM(A21),FIND(".",TRIM(A21))+1)+1,4))<100,2000,0),VALUE(MID(TRIM(A21),FIND(".",TRIM(A21))+1,FIND(".",TRIM(A21),FIND(".",TRIM(A21))+1)-FIND(".",TRIM(A21))-1)),VALUE(LEFT(TRIM(A21),FIND(".",TRIM(A21))-1))))+IF(ISNUMBER(B21),IF(B21>=1,(INT(B21)+ROUND(MOD(B21,1)*100,0)/60)/24,B21),(VALUE(LEFT(SUBSTITUTE(TRIM(B21),".",":"),FIND(":",SUBSTITUTE(TRIM(B21),".",":")&":")-1))+IFERROR(VALUE(LEFT(MID(SUBSTITUTE(TRIM(B21),".",":"),FIND(":",SUBSTITUTE(TRIM(B21),".",":"))+1,2)&"0",2)),0)/60)/24),"")) | O21: =IF(OR(C21="",D21=""),"",IFERROR(IF(ISNUMBER(C21),C21,DATE(VALUE(MID(TRIM(C21),FIND(".",TRIM(C21),FIND(".",TRIM(C21))+1)+1,4))+IF(VALUE(MID(TRIM(C21),FIND(".",TRIM(C21),FIND(".",TRIM(C21))+1)+1,4))<100,2000,0),VALUE(MID(TRIM(C21),FIND(".",TRIM(C21))+1,FIND(".",TRIM(C21),FIND(".",TRIM(C21))+1)-FIND(".",TRIM(C21))-1)),VALUE(LEFT(TRIM(C21),FIND(".",TRIM(C21))-1))))+IF(ISNUMBER(D21),IF(D21>=1,(INT(D21)+ROUND(MOD(D21,1)*100,0)/60)/24,D21),(VALUE(LEFT(SUBSTITUTE(TRIM(D21),".",":"),FIND(":",SUBSTITUTE(TRIM(D21),".",":")&":")-1))+IFERROR(VALUE(LEFT(MID(SUBSTITUTE(TRIM(D21),".",":"),FIND(":",SUBSTITUTE(TRIM(D21),".",":"))+1,2)&"0",2)),0)/60)/24),""))
... I37: =IF(OR(N37="",O37=""),"",IF(O37<=N37,"Tarkista ajat",ROUND((O37-N37)*24,2))) | J37: =IF(G37="","",G37*Korvaukset!$B$4) | K37: =IF(NOT(ISNUMBER(I37)),"",IF(I37<=24,IF(I37>10,IF(H37>=2,Korvaukset!$B$5/2,Korvaukset!$B$5),IF(I37>6,IF(H37>=1,Korvaukset!$B$6/2,Korvaukset!$B$6),0)),INT(I37/24)*IF(H37>=2,Korvaukset!$B$5/2,Korvaukset!$B$5)+IF(MOD(I37,24)>6,IF(H37>=2,Korvaukset!$B$5/2,Korvaukset!$B$5),IF(MOD(I37,24)>=2,IF(H37>=1,Korvaukset!$B$6/2,Korvaukset!$B$6),0)))) | L37: =IF(AND(J37="",K37=""),"",SUM(J37,K37)) | N37: =IF(OR(A37="",B37=""),"",IFERROR(IF(ISNUMBER(A37),A37,DATE(VALUE(MID(TRIM(A37),FIND(".",TRIM(A37),FIND(".",TRIM(A37))+1)+1,4))+IF(VALUE(MID(TRIM(A37),FIND(".",TRIM(A37),FIND(".",TRIM(A37))+1)+1,4))<100,2000,0),VALUE(MID(TRIM(A37),FIND(".",TRIM(A37))+1,FIND(".",TRIM(A37),FIND(".",TRIM(A37))+1)-FIND(".",TRIM(A37))-1)),VALUE(LEFT(TRIM(A37),FIND(".",TRIM(A37))-1))))+IF(ISNUMBER(B37),IF(B37>=1,(INT(B37)+ROUND(MOD(B37,1)*100,0)/60)/24,B37),(VALUE(LEFT(SUBSTITUTE(TRIM(B37),".",":"),FIND(":",SUBSTITUTE(TRIM(B37),".",":")&":")-1))+IFERROR(VALUE(LEFT(MID(SUBSTITUTE(TRIM(B37),".",":"),FIND(":",SUBSTITUTE(TRIM(B37),".",":"))+1,2)&"0",2)),0)/60)/24),"")) | O37: =IF(OR(C37="",D37=""),"",IFERROR(IF(ISNUMBER(C37),C37,DATE(VALUE(MID(TRIM(C37),FIND(".",TRIM(C37),FIND(".",TRIM(C37))+1)+1,4))+IF(VALUE(MID(TRIM(C37),FIND(".",TRIM(C37),FIND(".",TRIM(C37))+1)+1,4))<100,2000,0),VALUE(MID(TRIM(C37),FIND(".",TRIM(C37))+1,FIND(".",TRIM(C37),FIND(".",TRIM(C37))+1)-FIND(".",TRIM(C37))-1)),VALUE(LEFT(TRIM(C37),FIND(".",TRIM(C37))-1))))+IF(ISNUMBER(D37),IF(D37>=1,(INT(D37)+ROUND(MOD(D37,1)*100,0)/60)/24,D37),(VALUE(LEFT(SUBSTITUTE(TRIM(D37),".",":"),FIND(":",SUBSTITUTE(TRIM(D37),".",":")&":")-1))+IFERROR(VALUE(LEFT(MID(SUBSTITUTE(TRIM(D37),".",":"),FIND(":",SUBSTITUTE(TRIM(D37),".",":"))+1,2)&"0",2)),0)/60)/24),""))
A39: Yhteensä | G39: =SUM(G8:G37) -> 572 | J39: =SUM(J8:J37) -> 314.6 | K39: =SUM(K8:K37) -> 133 | L39: =SUM(L8:L37) -> 447.6
A41: Ohje: täytä keltaiset solut. Kellonajan voi kirjoittaa muodossa 8.30 tai 8:30, päivämäärän muodossa 16.2.2026. Kesto, kilometrikorvaus ja päiväraha lasketaan automaattisesti välilehden Korvaukset määrillä.
A42: Ilmaiset ateriat: valitse ilmaisten aterioiden määrä vuorokaudessa (0, 1 tai 2). Kaksi ateriaa puolittaa kokopäivärahan, yksi osapäivärahan.
A43: Rivit 8 ja 9 ovat esimerkkejä. Korvaa ne omilla matkoillasi.
A44: Haluatko tehdä matkalaskun puhumalla puhelimeen? Sillä Selvä laskee korvaukset puolestasi: sillaselva.fi

Sheet Korvaukset
A1: Verovapaat korvaukset 2026
A2: Verohallinnon päätös verovapaista matkakustannusten korvauksista vuonna 2026. Päivitä nämä luvut vuodenvaihteessa.
A3: Korvaus | B3: Määrä 2026 | C3: Huomio
A4: Kilometrikorvaus, oma auto (€/km) | B4: 0.55 | C4: Perusmäärä. Lisät esim. lisämatkustaja +0,04 €/km, perävaunu +0,09 €/km.
A5: Kokopäiväraha (€) | B5: 54 | C5: Matka yli 10 tuntia, tai viimeinen vajaa matkavuorokausi yli 6 tuntia.
A6: Osapäiväraha (€) | B6: 25 | C6: Matka yli 6 tuntia, tai viimeinen vajaa matkavuorokausi vähintään 2 tuntia.
A8: Säännöt lyhyesti
A9: • Päiväraha lasketaan 24 tunnin matkavuorokausina lähtöhetkestä alkaen.
A10: • Ilmaiset ateriat puolittavat päivärahan: kokopäivärahassa 2 ateriaa, osapäivärahassa 1 ateria.
A11: • Päivärahan edellytys: työkohde yli 15 km päässä työpaikasta tai kodista.
A12: • Pohja laskee kotimaan päivärahat. Ulkomaan päivärahat: sillaselva.fi/ulkomaan-paivarahalaskuri
A13: • Tavallinen kodin ja työpaikan välinen matka ei oikeuta korvauksiin.
A15: Lähde: | B15: https://www.vero.fi/syventavat-vero-ohjeet/paatokset/47405/verohallinnon-paatos-verovapaista-matkakustannusten-korvauksista-vuonna-2026/
